Package: mia Version: 1.15.20 Command: /Library/Frameworks/R.framework/Resources/bin/R CMD check --install=check:mia.install-out.txt --library=/Library/Frameworks/R.framework/Resources/library --no-vignettes --timings mia_1.15.20.tar.gz StartedAt: 2025-02-12 21:39:54 -0500 (Wed, 12 Feb 2025) EndedAt: 2025-02-12 22:19:54 -0500 (Wed, 12 Feb 2025) EllapsedTime: 2400.3 seconds RetCode: None Status: TIMEOUT CheckDir: mia.Rcheck Warnings: NA