Package: mia Version: 1.15.20 Command: /home/biocbuild/bbs-3.21-bioc/R/bin/R CMD check --install=check:mia.install-out.txt --library=/home/biocbuild/bbs-3.21-bioc/R/site-library --timings mia_1.15.20.tar.gz StartedAt: 2025-02-10 00:05:56 -0500 (Mon, 10 Feb 2025) EndedAt: 2025-02-10 00:43:35 -0500 (Mon, 10 Feb 2025) EllapsedTime: 2259.1 seconds RetCode: 0 Status: OK CheckDir: mia.Rcheck Warnings: 0