Package: mia Version: 1.15.20 Command: chmod a+r mia -R && E:\biocbuild\bbs-3.21-bioc\R\bin\R.exe CMD build --keep-empty-dirs --no-resave-data mia StartedAt: 2025-02-12 19:58:07 -0500 (Wed, 12 Feb 2025) EndedAt: 2025-02-12 20:01:11 -0500 (Wed, 12 Feb 2025) EllapsedTime: 184.6 seconds RetCode: 0 Status: OK PackageFile: mia_1.15.20.tar.gz PackageFileSize: 2.993 MiB