Package: mia Version: 1.15.20 Command: E:\biocbuild\bbs-3.21-bioc\R\bin\R.exe CMD INSTALL mia StartedAt: 2025-02-09 16:26:33 -0500 (Sun, 09 Feb 2025) EndedAt: 2025-02-09 16:28:25 -0500 (Sun, 09 Feb 2025) EllapsedTime: 111.8 seconds RetCode: 0 Status: OK