Package: miaViz Version: 1.15.5 Command: /home/biocbuild/R/R/bin/R CMD INSTALL miaViz StartedAt: 2025-01-29 20:29:09 -0000 (Wed, 29 Jan 2025) EndedAt: 2025-01-29 20:30:09 -0000 (Wed, 29 Jan 2025) EllapsedTime: 59.7 seconds RetCode: 0 Status: OK