Package: miaViz Version: 1.15.6 Command: /Library/Frameworks/R.framework/Resources/bin/R CMD build --keep-empty-dirs --no-resave-data miaViz StartedAt: 2025-02-09 17:26:25 -0500 (Sun, 09 Feb 2025) EndedAt: 2025-02-09 17:28:37 -0500 (Sun, 09 Feb 2025) EllapsedTime: 131.6 seconds RetCode: 0 Status: OK PackageFile: miaViz_1.15.6.tar.gz PackageFileSize: 2.526 MiB