Package: miaViz Version: 1.15.6 Command: /Library/Frameworks/R.framework/Resources/bin/R CMD INSTALL miaViz StartedAt: 2025-02-12 15:40:26 -0500 (Wed, 12 Feb 2025) EndedAt: 2025-02-12 15:41:26 -0500 (Wed, 12 Feb 2025) EllapsedTime: 60.5 seconds RetCode: 0 Status: OK