Package: miaViz Version: 1.15.6 Command: /home/biocbuild/bbs-3.21-bioc/R/bin/R CMD build --keep-empty-dirs --no-resave-data miaViz StartedAt: 2025-02-09 18:06:37 -0500 (Sun, 09 Feb 2025) EndedAt: 2025-02-09 18:08:20 -0500 (Sun, 09 Feb 2025) EllapsedTime: 102.1 seconds RetCode: 0 Status: OK PackageFile: miaViz_1.15.6.tar.gz PackageFileSize: 2.867 MiB