Package: miaViz Version: 1.15.6 Command: /home/biocbuild/bbs-3.21-bioc/R/bin/R CMD INSTALL miaViz StartedAt: 2025-02-09 15:55:01 -0500 (Sun, 09 Feb 2025) EndedAt: 2025-02-09 15:55:46 -0500 (Sun, 09 Feb 2025) EllapsedTime: 44.4 seconds RetCode: 0 Status: OK