Package: miaViz Version: 1.15.6 Command: rm -rf miaViz.buildbin-libdir && mkdir miaViz.buildbin-libdir && E:\biocbuild\bbs-3.21-bioc\R\bin\R.exe CMD INSTALL --build --library=miaViz.buildbin-libdir miaViz_1.15.6.tar.gz StartedAt: 2025-02-10 08:08:25 -0500 (Mon, 10 Feb 2025) EndedAt: 2025-02-10 08:09:44 -0500 (Mon, 10 Feb 2025) EllapsedTime: 78.6 seconds RetCode: 0 Status: OK PackageFile: miaViz_1.15.6.zip PackageFileSize: 2.746 MiB