Package: miaViz Version: 1.15.6 Command: chmod a+r miaViz -R && E:\biocbuild\bbs-3.21-bioc\R\bin\R.exe CMD build --keep-empty-dirs --no-resave-data miaViz StartedAt: 2025-02-09 19:53:34 -0500 (Sun, 09 Feb 2025) EndedAt: 2025-02-09 19:56:22 -0500 (Sun, 09 Feb 2025) EllapsedTime: 168.2 seconds RetCode: 0 Status: OK PackageFile: miaViz_1.15.6.tar.gz PackageFileSize: 2.488 MiB