Package: miaViz Version: 1.15.6 Command: E:\biocbuild\bbs-3.21-bioc\R\bin\R.exe CMD check --no-multiarch --install=check:miaViz.install-out.txt --library=E:\biocbuild\bbs-3.21-bioc\R\library --no-vignettes --timings miaViz_1.15.6.tar.gz StartedAt: 2025-02-10 02:54:13 -0500 (Mon, 10 Feb 2025) EndedAt: 2025-02-10 03:04:14 -0500 (Mon, 10 Feb 2025) EllapsedTime: 601.2 seconds RetCode: 0 Status: OK CheckDir: miaViz.Rcheck Warnings: 0