Package: microRNA Version: 1.65.1 Command: rm -rf microRNA.buildbin-libdir && mkdir microRNA.buildbin-libdir && /Users/biocbuild/BBS/utils/build-universal.sh microRNA_1.65.1.tar.gz /Library/Frameworks/R.framework/Resources/bin/R microRNA.buildbin-libdir StartedAt: 2025-02-09 22:21:07 -0500 (Sun, 09 Feb 2025) EndedAt: 2025-02-09 22:21:14 -0500 (Sun, 09 Feb 2025) EllapsedTime: 6.1 seconds RetCode: 0 Status: OK PackageFile: microRNA_1.65.1.tgz PackageFileSize: 5.778 MiB