Package: microRNA Version: 1.65.1 Command: /Library/Frameworks/R.framework/Resources/bin/R CMD INSTALL microRNA StartedAt: 2025-02-09 15:05:24 -0500 (Sun, 09 Feb 2025) EndedAt: 2025-02-09 15:05:33 -0500 (Sun, 09 Feb 2025) EllapsedTime: 8.9 seconds RetCode: 0 Status: OK