Package: microRNA Version: 1.65.1 Command: /Library/Frameworks/R.framework/Resources/bin/R CMD build --keep-empty-dirs --no-resave-data microRNA StartedAt: 2025-02-09 17:27:11 -0500 (Sun, 09 Feb 2025) EndedAt: 2025-02-09 17:27:15 -0500 (Sun, 09 Feb 2025) EllapsedTime: 4.6 seconds RetCode: 0 Status: OK PackageFile: microRNA_1.65.1.tar.gz PackageFileSize: 5.743 MiB