Package: microRNA Version: 1.65.1 Command: /Library/Frameworks/R.framework/Resources/bin/R CMD check --install=check:microRNA.install-out.txt --library=/Library/Frameworks/R.framework/Resources/library --no-vignettes --timings microRNA_1.65.1.tar.gz StartedAt: 2025-02-09 21:54:21 -0500 (Sun, 09 Feb 2025) EndedAt: 2025-02-09 21:55:59 -0500 (Sun, 09 Feb 2025) EllapsedTime: 98.3 seconds RetCode: 0 Status: OK CheckDir: microRNA.Rcheck Warnings: 0