Package: microRNA Version: 1.65.1 Command: /home/biocbuild/bbs-3.21-bioc/R/bin/R CMD build --keep-empty-dirs --no-resave-data microRNA StartedAt: 2025-02-09 18:07:15 -0500 (Sun, 09 Feb 2025) EndedAt: 2025-02-09 18:07:19 -0500 (Sun, 09 Feb 2025) EllapsedTime: 4.0 seconds RetCode: 0 Status: OK PackageFile: microRNA_1.65.1.tar.gz PackageFileSize: 5.743 MiB