Package: microRNA Version: 1.65.1 Command: /home/biocbuild/bbs-3.21-bioc/R/bin/R CMD check --install=check:microRNA.install-out.txt --library=/home/biocbuild/bbs-3.21-bioc/R/site-library --timings microRNA_1.65.1.tar.gz StartedAt: 2025-02-10 00:09:52 -0500 (Mon, 10 Feb 2025) EndedAt: 2025-02-10 00:11:09 -0500 (Mon, 10 Feb 2025) EllapsedTime: 77.1 seconds RetCode: 0 Status: OK CheckDir: microRNA.Rcheck Warnings: 0