Package: microRNA Version: 1.65.1 Command: /home/biocbuild/bbs-3.21-bioc/R/bin/R CMD INSTALL microRNA StartedAt: 2025-02-09 15:15:05 -0500 (Sun, 09 Feb 2025) EndedAt: 2025-02-09 15:15:16 -0500 (Sun, 09 Feb 2025) EllapsedTime: 11.1 seconds RetCode: 0 Status: OK