Package: microRNA Version: 1.65.1 Command: rm -rf microRNA.buildbin-libdir && mkdir microRNA.buildbin-libdir && E:\biocbuild\bbs-3.21-bioc\R\bin\R.exe CMD INSTALL --build --library=microRNA.buildbin-libdir microRNA_1.65.1.tar.gz StartedAt: 2025-02-10 08:08:40 -0500 (Mon, 10 Feb 2025) EndedAt: 2025-02-10 08:09:01 -0500 (Mon, 10 Feb 2025) EllapsedTime: 20.7 seconds RetCode: 0 Status: OK PackageFile: microRNA_1.65.1.zip PackageFileSize: 5.835 MiB