Package: microRNA Version: 1.65.1 Command: chmod a+r microRNA -R && E:\biocbuild\bbs-3.21-bioc\R\bin\R.exe CMD build --keep-empty-dirs --no-resave-data microRNA StartedAt: 2025-02-09 19:54:12 -0500 (Sun, 09 Feb 2025) EndedAt: 2025-02-09 19:54:18 -0500 (Sun, 09 Feb 2025) EllapsedTime: 6.0 seconds RetCode: 0 Status: OK PackageFile: microRNA_1.65.1.tar.gz PackageFileSize: 5.743 MiB