Package: microRNA Version: 1.65.1 Command: E:\biocbuild\bbs-3.21-bioc\R\bin\R.exe CMD INSTALL microRNA StartedAt: 2025-02-09 15:52:04 -0500 (Sun, 09 Feb 2025) EndedAt: 2025-02-09 15:53:22 -0500 (Sun, 09 Feb 2025) EllapsedTime: 77.8 seconds RetCode: 0 Status: OK