Package: microbiome Version: 1.29.0 Command: rm -rf microbiome.buildbin-libdir && mkdir microbiome.buildbin-libdir && /Users/biocbuild/BBS/utils/build-universal.sh microbiome_1.29.0.tar.gz /Library/Frameworks/R.framework/Resources/bin/R microbiome.buildbin-libdir StartedAt: 2025-02-12 22:26:22 -0500 (Wed, 12 Feb 2025) EndedAt: 2025-02-12 22:26:31 -0500 (Wed, 12 Feb 2025) EllapsedTime: 9.2 seconds RetCode: 0 Status: OK PackageFile: microbiome_1.29.0.tgz PackageFileSize: 1023 KiB