Package: microbiome Version: 1.29.0 Command: /Library/Frameworks/R.framework/Resources/bin/R CMD INSTALL microbiome StartedAt: 2025-02-12 15:22:37 -0500 (Wed, 12 Feb 2025) EndedAt: 2025-02-12 15:22:45 -0500 (Wed, 12 Feb 2025) EllapsedTime: 8.9 seconds RetCode: 0 Status: OK