Package: microbiome Version: 1.29.0 Command: /home/biocbuild/R/R/bin/R CMD build --keep-empty-dirs --no-resave-data microbiome StartedAt: 2025-01-29 00:19:06 -0000 (Wed, 29 Jan 2025) EndedAt: 2025-01-29 00:19:46 -0000 (Wed, 29 Jan 2025) EllapsedTime: 40.0 seconds RetCode: 0 Status: OK PackageFile: microbiome_1.29.0.tar.gz PackageFileSize: 738.2 KiB