Package: microbiome Version: 1.29.0 Command: /Library/Frameworks/R.framework/Resources/bin/R CMD check --install=check:microbiome.install-out.txt --library=/Library/Frameworks/R.framework/Resources/library --no-vignettes --timings microbiome_1.29.0.tar.gz StartedAt: 2025-02-09 21:53:48 -0500 (Sun, 09 Feb 2025) EndedAt: 2025-02-09 21:57:24 -0500 (Sun, 09 Feb 2025) EllapsedTime: 215.4 seconds RetCode: 0 Status: OK CheckDir: microbiome.Rcheck Warnings: 0