Package: microbiome Version: 1.29.0 Command: /home/biocbuild/bbs-3.21-bioc/R/bin/R CMD INSTALL microbiome StartedAt: 2025-02-12 15:18:06 -0500 (Wed, 12 Feb 2025) EndedAt: 2025-02-12 15:18:27 -0500 (Wed, 12 Feb 2025) EllapsedTime: 20.5 seconds RetCode: 0 Status: OK