Package: microbiome Version: 1.29.0 Command: E:\biocbuild\bbs-3.21-bioc\R\bin\R.exe CMD INSTALL microbiome StartedAt: 2025-02-09 16:03:33 -0500 (Sun, 09 Feb 2025) EndedAt: 2025-02-09 16:04:56 -0500 (Sun, 09 Feb 2025) EllapsedTime: 82.7 seconds RetCode: 0 Status: OK