Package: microbiomeDASim Version: 1.21.0 Command: rm -rf microbiomeDASim.buildbin-libdir && mkdir microbiomeDASim.buildbin-libdir && /Users/biocbuild/BBS/utils/build-universal.sh microbiomeDASim_1.21.0.tar.gz /Library/Frameworks/R.framework/Resources/bin/R microbiomeDASim.buildbin-libdir StartedAt: 2025-02-12 22:26:22 -0500 (Wed, 12 Feb 2025) EndedAt: 2025-02-12 22:26:31 -0500 (Wed, 12 Feb 2025) EllapsedTime: 9.2 seconds RetCode: 0 Status: OK PackageFile: microbiomeDASim_1.21.0.tgz PackageFileSize: 1.571 MiB