Package: microbiomeDASim Version: 1.21.0 Command: /Library/Frameworks/R.framework/Resources/bin/R CMD INSTALL microbiomeDASim StartedAt: 2025-02-12 15:22:36 -0500 (Wed, 12 Feb 2025) EndedAt: 2025-02-12 15:22:44 -0500 (Wed, 12 Feb 2025) EllapsedTime: 7.6 seconds RetCode: 0 Status: OK