Package: microbiomeDASim Version: 1.21.0 Command: rm -rf microbiomeDASim.buildbin-libdir && mkdir microbiomeDASim.buildbin-libdir && /Users/biocbuild/BBS/utils/build-universal.sh microbiomeDASim_1.21.0.tar.gz /Library/Frameworks/R.framework/Resources/bin/R microbiomeDASim.buildbin-libdir StartedAt: 2025-02-10 01:02:38 -0500 (Mon, 10 Feb 2025) EndedAt: 2025-02-10 01:03:08 -0500 (Mon, 10 Feb 2025) EllapsedTime: 30.0 seconds RetCode: 0 Status: OK PackageFile: microbiomeDASim_1.21.0.tgz PackageFileSize: 1.57 MiB