Package: microbiomeDASim Version: 1.21.0 Command: /Library/Frameworks/R.framework/Resources/bin/R CMD check --install=check:microbiomeDASim.install-out.txt --library=/Library/Frameworks/R.framework/Resources/library --no-vignettes --timings microbiomeDASim_1.21.0.tar.gz StartedAt: 2025-02-03 21:40:29 -0500 (Mon, 03 Feb 2025) EndedAt: 2025-02-03 21:43:54 -0500 (Mon, 03 Feb 2025) EllapsedTime: 205.0 seconds RetCode: 0 Status: OK CheckDir: microbiomeDASim.Rcheck Warnings: 0