Package: microbiomeDASim Version: 1.21.0 Command: /home/biocbuild/bbs-3.21-bioc/R/bin/R CMD build --keep-empty-dirs --no-resave-data microbiomeDASim StartedAt: 2025-02-09 18:06:45 -0500 (Sun, 09 Feb 2025) EndedAt: 2025-02-09 18:07:29 -0500 (Sun, 09 Feb 2025) EllapsedTime: 44.1 seconds RetCode: 0 Status: OK PackageFile: microbiomeDASim_1.21.0.tar.gz PackageFileSize: 1.499 MiB