Package: microbiomeDASim Version: 1.21.0 Command: /home/biocbuild/bbs-3.21-bioc/R/bin/R CMD check --install=check:microbiomeDASim.install-out.txt --library=/home/biocbuild/bbs-3.21-bioc/R/site-library --timings microbiomeDASim_1.21.0.tar.gz StartedAt: 2025-02-10 00:07:42 -0500 (Mon, 10 Feb 2025) EndedAt: 2025-02-10 00:11:20 -0500 (Mon, 10 Feb 2025) EllapsedTime: 218.3 seconds RetCode: 0 Status: OK CheckDir: microbiomeDASim.Rcheck Warnings: 0