Package: microbiomeDASim Version: 1.21.0 Command: E:\biocbuild\bbs-3.21-bioc\R\bin\R.exe CMD INSTALL microbiomeDASim StartedAt: 2025-02-03 16:15:14 -0500 (Mon, 03 Feb 2025) EndedAt: 2025-02-03 16:16:37 -0500 (Mon, 03 Feb 2025) EllapsedTime: 82.6 seconds RetCode: 0 Status: OK