Package: mina Version: 1.15.0 Command: rm -rf mina.buildbin-libdir && mkdir mina.buildbin-libdir && /Users/biocbuild/BBS/utils/build-universal.sh mina_1.15.0.tar.gz /Library/Frameworks/R.framework/Resources/bin/R mina.buildbin-libdir StartedAt: 2025-02-10 01:02:51 -0500 (Mon, 10 Feb 2025) EndedAt: 2025-02-10 01:03:34 -0500 (Mon, 10 Feb 2025) EllapsedTime: 42.8 seconds RetCode: 0 Status: OK PackageFile: mina_1.15.0.tgz PackageFileSize: 7.853 MiB