Package: mina Version: 1.15.0 Command: /Library/Frameworks/R.framework/Resources/bin/R CMD build --keep-empty-dirs --no-resave-data mina StartedAt: 2025-02-09 17:27:29 -0500 (Sun, 09 Feb 2025) EndedAt: 2025-02-09 17:30:48 -0500 (Sun, 09 Feb 2025) EllapsedTime: 198.7 seconds RetCode: 0 Status: OK PackageFile: mina_1.15.0.tar.gz PackageFileSize: 4.018 MiB