Package: mina Version: 1.15.0 Command: /home/biocbuild/bbs-3.21-bioc/R/bin/R CMD INSTALL mina StartedAt: 2025-02-09 15:11:40 -0500 (Sun, 09 Feb 2025) EndedAt: 2025-02-09 15:12:09 -0500 (Sun, 09 Feb 2025) EllapsedTime: 29.1 seconds RetCode: 0 Status: OK