Package: mina Version: 1.15.0 Command: E:\biocbuild\bbs-3.21-bioc\R\bin\R.exe CMD INSTALL mina StartedAt: 2025-02-09 15:43:39 -0500 (Sun, 09 Feb 2025) EndedAt: 2025-02-09 15:44:58 -0500 (Sun, 09 Feb 2025) EllapsedTime: 78.9 seconds RetCode: 0 Status: OK