Package: minet Version: 3.65.0 Command: /Library/Frameworks/R.framework/Resources/bin/R CMD INSTALL minet StartedAt: 2025-02-09 15:40:57 -0500 (Sun, 09 Feb 2025) EndedAt: 2025-02-09 15:41:05 -0500 (Sun, 09 Feb 2025) EllapsedTime: 8.9 seconds RetCode: 0 Status: OK