Package: minet Version: 3.65.0 Command: /home/biocbuild/bbs-3.21-bioc/R/bin/R CMD check --install=check:minet.install-out.txt --library=/home/biocbuild/bbs-3.21-bioc/R/site-library --timings minet_3.65.0.tar.gz StartedAt: 2025-02-13 00:11:52 -0500 (Thu, 13 Feb 2025) EndedAt: 2025-02-13 00:12:08 -0500 (Thu, 13 Feb 2025) EllapsedTime: 16.0 seconds RetCode: 0 Status: OK CheckDir: minet.Rcheck Warnings: 0