Package: minet Version: 3.65.0 Command: rm -rf minet.buildbin-libdir && mkdir minet.buildbin-libdir && E:\biocbuild\bbs-3.21-bioc\R\bin\R.exe CMD INSTALL --build --library=minet.buildbin-libdir minet_3.65.0.tar.gz StartedAt: 2025-02-10 08:09:06 -0500 (Mon, 10 Feb 2025) EndedAt: 2025-02-10 08:09:20 -0500 (Mon, 10 Feb 2025) EllapsedTime: 13.2 seconds RetCode: 0 Status: OK PackageFile: minet_3.65.0.zip PackageFileSize: 142.6 KiB