Package: minfi Version: 1.53.1 Maintainer: Kasper Daniel Hansen MaintainerEmail: kasperdanielhansen at gmail.com git_url: https://git.bioconductor.org/packages/minfi git_branch: devel git_last_commit: 3852366 git_last_commit_date: 2024-11-19 11:04:48 -0500 (Tue, 19 Nov 2024)