Package: minfi Version: 1.53.1 Command: rm -rf minfi.buildbin-libdir && mkdir minfi.buildbin-libdir && /Users/biocbuild/BBS/utils/build-universal.sh minfi_1.53.1.tar.gz /Library/Frameworks/R.framework/Resources/bin/R minfi.buildbin-libdir StartedAt: 2025-02-09 22:21:17 -0500 (Sun, 09 Feb 2025) EndedAt: 2025-02-09 22:21:38 -0500 (Sun, 09 Feb 2025) EllapsedTime: 21.5 seconds RetCode: 0 Status: OK PackageFile: minfi_1.53.1.tgz PackageFileSize: 1.542 MiB