Package: minfi Version: 1.53.1 Command: /Library/Frameworks/R.framework/Resources/bin/R CMD build --keep-empty-dirs --no-resave-data minfi StartedAt: 2025-02-09 16:57:02 -0500 (Sun, 09 Feb 2025) EndedAt: 2025-02-09 16:57:46 -0500 (Sun, 09 Feb 2025) EllapsedTime: 44.5 seconds RetCode: 0 Status: OK PackageFile: minfi_1.53.1.tar.gz PackageFileSize: 505.5 KiB