Package: minfi Version: 1.53.1 Command: /Library/Frameworks/R.framework/Resources/bin/R CMD check --install=check:minfi.install-out.txt --library=/Library/Frameworks/R.framework/Resources/library --no-vignettes --timings minfi_1.53.1.tar.gz StartedAt: 2025-02-09 20:07:11 -0500 (Sun, 09 Feb 2025) EndedAt: 2025-02-09 20:10:28 -0500 (Sun, 09 Feb 2025) EllapsedTime: 197.3 seconds RetCode: 0 Status: OK CheckDir: minfi.Rcheck Warnings: 0