Package: minfi Version: 1.53.1 Command: /home/biocbuild/R/R/bin/R CMD build --keep-empty-dirs --no-resave-data minfi StartedAt: 2025-01-29 00:21:32 -0000 (Wed, 29 Jan 2025) EndedAt: 2025-01-29 00:23:44 -0000 (Wed, 29 Jan 2025) EllapsedTime: 132.0 seconds RetCode: 0 Status: OK PackageFile: minfi_1.53.1.tar.gz PackageFileSize: 575 KiB