Package: minfi Version: 1.53.1 Command: /home/biocbuild/R/R/bin/R CMD check --install=check:minfi.install-out.txt --library=/home/biocbuild/R/R/site-library --no-vignettes --timings minfi_1.53.1.tar.gz StartedAt: 2025-01-28 12:30:32 -0000 (Tue, 28 Jan 2025) EndedAt: 2025-01-28 12:41:12 -0000 (Tue, 28 Jan 2025) EllapsedTime: 639.8 seconds RetCode: 0 Status: WARNINGS CheckDir: minfi.Rcheck Warnings: 5