Package: minfi Version: 1.53.1 Command: /Library/Frameworks/R.framework/Resources/bin/R CMD check --install=check:minfi.install-out.txt --library=/Library/Frameworks/R.framework/Resources/library --no-vignettes --timings minfi_1.53.1.tar.gz StartedAt: 2025-02-09 21:56:01 -0500 (Sun, 09 Feb 2025) EndedAt: 2025-02-09 22:05:18 -0500 (Sun, 09 Feb 2025) EllapsedTime: 556.6 seconds RetCode: 0 Status: OK CheckDir: minfi.Rcheck Warnings: 0