Package: minfi Version: 1.53.1 Command: /Library/Frameworks/R.framework/Resources/bin/R CMD INSTALL minfi StartedAt: 2025-02-09 15:41:51 -0500 (Sun, 09 Feb 2025) EndedAt: 2025-02-09 15:43:00 -0500 (Sun, 09 Feb 2025) EllapsedTime: 69.6 seconds RetCode: 0 Status: OK